BEGIN:VCALENDAR
VERSION:2.0
PRODID:-// - ECPv6.0.13.1//NONSGML v1.0//EN
CALSCALE:GREGORIAN
METHOD:PUBLISH
X-ORIGINAL-URL:https://mommyanew.com
X-WR-CALDESC:Events for 
REFRESH-INTERVAL;VALUE=DURATION:PT1H
X-Robots-Tag:noindex
X-PUBLISHED-TTL:PT1H
BEGIN:VTIMEZONE
TZID:America/Chicago
BEGIN:DAYLIGHT
TZOFFSETFROM:-0600
TZOFFSETTO:-0500
TZNAME:CDT
DTSTART:20210314T080000
END:DAYLIGHT
BEGIN:STANDARD
TZOFFSETFROM:-0500
TZOFFSETTO:-0600
TZNAME:CST
DTSTART:20211107T070000
END:STANDARD
END:VTIMEZONE
BEGIN:VEVENT
DTSTART;TZID=America/Chicago:20211005T180000
DTEND;TZID=America/Chicago:20211005T200000
DTSTAMP:20260421T042115
CREATED:20211004T210620Z
LAST-MODIFIED:20211004T210620Z
UID:2399-1633456800-1633464000@mommyanew.com
SUMMARY:Chancellor's Reception\,  Saluki Takeover Tour Chicago
DESCRIPTION:As a former Saluki\, I love this idea.   The Saluki Takeover Chicago Tour starts October 3\, 2021 through Thursday\, October 7\, 2021.    \nOctober 5th\, Chancellor reception hosted by Chancellor Austin lane.   The event is free.  The event will feature the State of the University address by Chancellor Lane. \nLight refreshments and two complimentary drinks.  
URL:https://mommyanew.com/events-single-post-name/chancellors-reception-saluki-takeover-tour-chicago/
LOCATION:Palmer House\, 17 East Monroe Street\, Chicago\, IL\, 60603\, United States
END:VEVENT
BEGIN:VEVENT
DTSTART;TZID=America/Chicago:20211006T180000
DTEND;TZID=America/Chicago:20211006T220000
DTSTAMP:20260421T042115
CREATED:20211004T225654Z
LAST-MODIFIED:20211004T225654Z
UID:2403-1633543200-1633557600@mommyanew.com
SUMMARY:Dunbar Leadership Society\, Saluki Takeover Tour Chicago
DESCRIPTION:As a former Saluki\, I love this idea.   The Saluki Takeover Chicago Tour starts October 3\, 2021 through Thursday\, October 7\, 2021.    \nOctober 6h\, Dunbar Leadership Society.   The Dunbar Leadership Society is a society which organizes activities for African American multicultural events.  The reception will feature a live performance by The Frank Russell Trio followed by a DJ set.  In addition\, light hors d’oeuvres will be available.    A 75 dollar donation required.  For more information\, visit their website. \n 
URL:https://mommyanew.com/events-single-post-name/dunbar-leadership-society-saluki-takeover-tour-chicago/
LOCATION:Gallary Guichard\, 436 East 47th Street\, Chicago\, IL\, 60653\, United States
END:VEVENT
END:VCALENDAR