BEGIN:VCALENDAR
VERSION:2.0
PRODID:-// - ECPv6.0.13.1//NONSGML v1.0//EN
CALSCALE:GREGORIAN
METHOD:PUBLISH
X-ORIGINAL-URL:https://mommyanew.com
X-WR-CALDESC:Events for 
REFRESH-INTERVAL;VALUE=DURATION:PT1H
X-Robots-Tag:noindex
X-PUBLISHED-TTL:PT1H
BEGIN:VTIMEZONE
TZID:America/Chicago
BEGIN:DAYLIGHT
TZOFFSETFROM:-0600
TZOFFSETTO:-0500
TZNAME:CDT
DTSTART:20200308T080000
END:DAYLIGHT
BEGIN:STANDARD
TZOFFSETFROM:-0500
TZOFFSETTO:-0600
TZNAME:CST
DTSTART:20201101T070000
END:STANDARD
END:VTIMEZONE
BEGIN:VEVENT
DTSTART;TZID=America/Chicago:20200801T203000
DTEND;TZID=America/Chicago:20200801T223000
DTSTAMP:20260421T232745
CREATED:20200722T204842Z
LAST-MODIFIED:20200722T204842Z
UID:1762-1596313800-1596321000@mommyanew.com
SUMMARY:CHI-Together Drive-In Movies
DESCRIPTION:CHI-Together has organized a drive in movie event series! Come and enjoy a pre-entertainment show followed by a movie screening locating at Solider Field. Tickets are $55 per car (up to 6 individuals). Tickets must be purchase in advance here. \nPre Show Entertainment: DJ Matt Roan- Crossfader King  \nMovie Screening: DreamGirls 
URL:https://mommyanew.com/events-single-post-name/chi-together-drive-in-movies-9/
LOCATION:Soldier Field\, 1410 S Museum Campus Drive\, Chicago\, Illinois\, 60605
ATTACH;FMTTYPE=image/jpeg:https://mommyanew.com/wp-content/uploads/2020/07/Drive-in-scaled.jpg
END:VEVENT
BEGIN:VEVENT
DTSTART;TZID=America/Chicago:20200802T203000
DTEND;TZID=America/Chicago:20200802T223000
DTSTAMP:20260421T232745
CREATED:20200722T205547Z
LAST-MODIFIED:20200727T205124Z
UID:1764-1596400200-1596407400@mommyanew.com
SUMMARY:CHI-Together Drive-In Movies
DESCRIPTION:CHI-Together has organized a drive in movie event series! Come and enjoy a pre-entertainment show followed by a movie screening located at Solider Field. Tickets are $55 per car (up to 6 individuals). Tickets must be purchased in advance here. \nPre Show Entertainment: Fig Media  \nMovie Screening: Kung Fu Panda 
URL:https://mommyanew.com/events-single-post-name/chi-together-drive-in-movies-10/
LOCATION:Soldier Field\, 1410 S Museum Campus Drive\, Chicago\, Illinois\, 60605
ATTACH;FMTTYPE=image/jpeg:https://mommyanew.com/wp-content/uploads/2020/07/Drive-in-scaled.jpg
END:VEVENT
BEGIN:VEVENT
DTSTART;TZID=America/Chicago:20200803T183000
DTEND;TZID=America/Chicago:20200803T203000
DTSTAMP:20260421T232745
CREATED:20200720T195023Z
LAST-MODIFIED:20200720T195023Z
UID:1733-1596479400-1596486600@mommyanew.com
SUMMARY:Navy Pier Water Flicks
DESCRIPTION:Plan a trip to Navy Pier for the free screening of “Crazy Rich Asians”.  Join Navy Pier in its outdoor summer movie event this summer! Navy Pier is hosting a free 8-week outdoor movies series at Lake stage in Polk Bros Park. So\, grab your blankets and lawn chairs for a fun evening with the family! With recent conditions\, Navy Pier has implemented proper measures for the safety of individuals during this pandemic. To protect the health of your family and others\, face coverings and social distancing is mandatory. Get more details here.
URL:https://mommyanew.com/events-single-post-name/navy-pier-water-flicks-2/
LOCATION:Lake Stage in Polk Bros Park\, 600 E. Grand Avenue\, Chicago\, Illinois\, 60611
ATTACH;FMTTYPE=image/jpeg:https://mommyanew.com/wp-content/uploads/2020/07/Navy-Pier-scaled.jpg
END:VEVENT
BEGIN:VEVENT
DTSTART;TZID=America/Chicago:20200805T203000
DTEND;TZID=America/Chicago:20200805T223000
DTSTAMP:20260421T232745
CREATED:20200722T210001Z
LAST-MODIFIED:20200727T205224Z
UID:1766-1596659400-1596666600@mommyanew.com
SUMMARY:CHI-Together Drive-In Movies
DESCRIPTION:CHI-Together has organized a drive in movie event series! Come and enjoy a pre-entertainment show followed by a movie screening located at Solider Field. Tickets are $55 per car (up to 6 individuals). Tickets must be purchased in advance here. \nPre Show Entertainment: DJ CA$H Era  \nMovie Screening: Rocky IV 
URL:https://mommyanew.com/events-single-post-name/chi-together-drive-in-movies-11/
LOCATION:Soldier Field\, 1410 S Museum Campus Drive\, Chicago\, Illinois\, 60605
ATTACH;FMTTYPE=image/jpeg:https://mommyanew.com/wp-content/uploads/2020/07/Drive-in-scaled.jpg
END:VEVENT
BEGIN:VEVENT
DTSTART;TZID=America/Chicago:20200806T203000
DTEND;TZID=America/Chicago:20200806T223000
DTSTAMP:20260421T232745
CREATED:20200722T210331Z
LAST-MODIFIED:20200722T210331Z
UID:1768-1596745800-1596753000@mommyanew.com
SUMMARY:CHI-Together Drive-In Movies
DESCRIPTION:CHI-Together has organized a drive in movie event series! Come and enjoy a pre-entertainment show followed by a movie screening locating at Solider Field. Tickets are $55 per car (up to 6 individuals). Tickets must be purchase in advance here. \nPre Show Entertainment: TBA \nMovie Screening: The Break Up
URL:https://mommyanew.com/events-single-post-name/chi-together-drive-in-movies-12/
LOCATION:Soldier Field\, 1410 S Museum Campus Drive\, Chicago\, Illinois\, 60605
ATTACH;FMTTYPE=image/jpeg:https://mommyanew.com/wp-content/uploads/2020/07/Drive-in-scaled.jpg
END:VEVENT
BEGIN:VEVENT
DTSTART;TZID=America/Chicago:20200810T183000
DTEND;TZID=America/Chicago:20200810T203000
DTSTAMP:20260421T232745
CREATED:20200720T195604Z
LAST-MODIFIED:20200720T195604Z
UID:1735-1597084200-1597091400@mommyanew.com
SUMMARY:Navy Pier Water Flicks
DESCRIPTION:Plan a trip to Navy Pier for the free screening of “Casablanca”.  Join Navy Pier in its outdoor summer movie event this summer! Navy Pier is hosting a free 8-week outdoor movies series at Lake stage in Polk Bros Park. So\, grab your blankets and lawn chairs for a fun evening with the family! With recent conditions\, Navy Pier has implemented proper measures for the safety of individuals during this pandemic. To protect the health of your family and others\, face coverings and social distancing is mandatory. Get more details here.
URL:https://mommyanew.com/events-single-post-name/navy-pier-water-flicks-3/
LOCATION:Lake Stage in Polk Bros Park\, 600 E. Grand Avenue\, Chicago\, Illinois\, 60611
ATTACH;FMTTYPE=image/jpeg:https://mommyanew.com/wp-content/uploads/2020/07/Navy-Pier-scaled.jpg
END:VEVENT
BEGIN:VEVENT
DTSTART;TZID=America/Chicago:20200817T183000
DTEND;TZID=America/Chicago:20200817T203000
DTSTAMP:20260421T232745
CREATED:20200720T200214Z
LAST-MODIFIED:20200720T200214Z
UID:1737-1597689000-1597696200@mommyanew.com
SUMMARY:Navy Pier Water Flicks
DESCRIPTION:Plan a trip to Navy Pier for the free screening of “Coco”.  Join Navy Pier in its outdoor summer movie event this summer! Navy Pier is hosting a free 8-week outdoor movies series at Lake stage in Polk Bros Park. So\, grab your blankets and lawn chairs for a fun evening with the family! With recent conditions\, Navy Pier has implemented proper measures for the safety of individuals during this pandemic. To protect the health of your family and others\, face coverings and social distancing is mandatory. Get more details here.
URL:https://mommyanew.com/events-single-post-name/navy-pier-water-flicks-4/
LOCATION:Lake Stage in Polk Bros Park\, 600 E. Grand Avenue\, Chicago\, Illinois\, 60611
ATTACH;FMTTYPE=image/jpeg:https://mommyanew.com/wp-content/uploads/2020/07/Navy-Pier-scaled.jpg
END:VEVENT
BEGIN:VEVENT
DTSTART;TZID=America/Chicago:20200824T183000
DTEND;TZID=America/Chicago:20200824T203000
DTSTAMP:20260421T232745
CREATED:20200720T200517Z
LAST-MODIFIED:20200720T204834Z
UID:1739-1598293800-1598301000@mommyanew.com
SUMMARY:Navy Pier Water Flicks
DESCRIPTION:Plan a trip to Navy Pier for the free screening of “Cool Runnings”. Join Navy Pier in its outdoor summer movie event this summer! Navy Pier is hosting a free 8-week outdoor movies series at Lake stage in Polk Bros Park. So\, grab your blankets and lawn chairs for a fun evening with the family! With recent conditions\, Navy Pier has implemented proper measures for the safety of individuals during this pandemic. To protect the health of your family and others\, face coverings and social distancing is mandatory. Get more details here.
URL:https://mommyanew.com/events-single-post-name/navy-pier-water-flicks-5/
LOCATION:Lake Stage in Polk Bros Park\, 600 E. Grand Avenue\, Chicago\, Illinois\, 60611
ATTACH;FMTTYPE=image/jpeg:https://mommyanew.com/wp-content/uploads/2020/07/Navy-Pier-scaled.jpg
END:VEVENT
END:VCALENDAR