BEGIN:VCALENDAR
VERSION:2.0
PRODID:-// - ECPv6.0.13.1//NONSGML v1.0//EN
CALSCALE:GREGORIAN
METHOD:PUBLISH
X-ORIGINAL-URL:https://mommyanew.com
X-WR-CALDESC:Events for 
REFRESH-INTERVAL;VALUE=DURATION:PT1H
X-Robots-Tag:noindex
X-PUBLISHED-TTL:PT1H
BEGIN:VTIMEZONE
TZID:America/Chicago
BEGIN:DAYLIGHT
TZOFFSETFROM:-0600
TZOFFSETTO:-0500
TZNAME:CDT
DTSTART:20200308T080000
END:DAYLIGHT
BEGIN:STANDARD
TZOFFSETFROM:-0500
TZOFFSETTO:-0600
TZNAME:CST
DTSTART:20201101T070000
END:STANDARD
END:VTIMEZONE
BEGIN:VEVENT
DTSTART;TZID=America/Chicago:20200810T183000
DTEND;TZID=America/Chicago:20200810T203000
DTSTAMP:20260422T005403
CREATED:20200720T195604Z
LAST-MODIFIED:20200720T195604Z
UID:1735-1597084200-1597091400@mommyanew.com
SUMMARY:Navy Pier Water Flicks
DESCRIPTION:Plan a trip to Navy Pier for the free screening of “Casablanca”.  Join Navy Pier in its outdoor summer movie event this summer! Navy Pier is hosting a free 8-week outdoor movies series at Lake stage in Polk Bros Park. So\, grab your blankets and lawn chairs for a fun evening with the family! With recent conditions\, Navy Pier has implemented proper measures for the safety of individuals during this pandemic. To protect the health of your family and others\, face coverings and social distancing is mandatory. Get more details here.
URL:https://mommyanew.com/events-single-post-name/navy-pier-water-flicks-3/
LOCATION:Lake Stage in Polk Bros Park\, 600 E. Grand Avenue\, Chicago\, Illinois\, 60611
ATTACH;FMTTYPE=image/jpeg:https://mommyanew.com/wp-content/uploads/2020/07/Navy-Pier-scaled.jpg
END:VEVENT
END:VCALENDAR