BEGIN:VCALENDAR
VERSION:2.0
PRODID:-// - ECPv6.0.13.1//NONSGML v1.0//EN
CALSCALE:GREGORIAN
METHOD:PUBLISH
X-ORIGINAL-URL:https://mommyanew.com
X-WR-CALDESC:Events for 
REFRESH-INTERVAL;VALUE=DURATION:PT1H
X-Robots-Tag:noindex
X-PUBLISHED-TTL:PT1H
BEGIN:VTIMEZONE
TZID:America/Chicago
BEGIN:DAYLIGHT
TZOFFSETFROM:-0600
TZOFFSETTO:-0500
TZNAME:CDT
DTSTART:20200308T080000
END:DAYLIGHT
BEGIN:STANDARD
TZOFFSETFROM:-0500
TZOFFSETTO:-0600
TZNAME:CST
DTSTART:20201101T070000
END:STANDARD
END:VTIMEZONE
BEGIN:VEVENT
DTSTART;TZID=America/Chicago:20200722T203000
DTEND;TZID=America/Chicago:20200722T223000
DTSTAMP:20260422T020749
CREATED:20200720T211933Z
LAST-MODIFIED:20200720T211933Z
UID:1741-1595449800-1595457000@mommyanew.com
SUMMARY:CHI-Together Drive-In Movies
DESCRIPTION:CHI-Together has organized a drive in movie event series! Come and enjoy a pre-entertainment show followed by a movie screening locating at Solider Field. Tickets are $55 per car (up to 6 individuals). Tickets must be purchase in advance here.  \nPre Show Entertainment: Dj CA$H Era \nMovie Screening: The Big Lebowski 
URL:https://mommyanew.com/events-single-post-name/chi-together-drive-in-movies/
LOCATION:Soldier Field\, 1410 S Museum Campus Drive\, Chicago\, Illinois\, 60605
ATTACH;FMTTYPE=image/jpeg:https://mommyanew.com/wp-content/uploads/2020/07/Drive-in-scaled.jpg
END:VEVENT
END:VCALENDAR