BEGIN:VCALENDAR
VERSION:2.0
PRODID:-// - ECPv6.0.13.1//NONSGML v1.0//EN
CALSCALE:GREGORIAN
METHOD:PUBLISH
X-ORIGINAL-URL:https://mommyanew.com
X-WR-CALDESC:Events for 
REFRESH-INTERVAL;VALUE=DURATION:PT1H
X-Robots-Tag:noindex
X-PUBLISHED-TTL:PT1H
BEGIN:VTIMEZONE
TZID:America/Chicago
BEGIN:DAYLIGHT
TZOFFSETFROM:-0600
TZOFFSETTO:-0500
TZNAME:CDT
DTSTART:20200308T080000
END:DAYLIGHT
BEGIN:STANDARD
TZOFFSETFROM:-0500
TZOFFSETTO:-0600
TZNAME:CST
DTSTART:20201101T070000
END:STANDARD
END:VTIMEZONE
BEGIN:VEVENT
DTSTART;VALUE=DATE:20200114
DTEND;VALUE=DATE:20200301
DTSTAMP:20260422T110325
CREATED:20200114T185407Z
LAST-MODIFIED:20200114T185407Z
UID:1354-1578960000-1583020799@mommyanew.com
SUMMARY:LINCOLN PARK ZOO WINTER DAYS
DESCRIPTION:Lincoln Park Zoo is open all year round but can be especially entertaining and educational during the winter months.  Learn how animals adapt to cold weather and then take a break from the cold by wandering over to the animal houses with gorillas and more.  And don’t forget to visit the ice skating rink.  Get more information here.
URL:https://mommyanew.com/events-single-post-name/lincolnparkzoointhewinter/
LOCATION:IL
ATTACH;FMTTYPE=image/jpeg:https://mommyanew.com/wp-content/uploads/2020/01/polar-bear.jpg
END:VEVENT
END:VCALENDAR