BEGIN:VCALENDAR
VERSION:2.0
PRODID:-// - ECPv6.0.13.1//NONSGML v1.0//EN
CALSCALE:GREGORIAN
METHOD:PUBLISH
X-ORIGINAL-URL:https://mommyanew.com
X-WR-CALDESC:Events for 
REFRESH-INTERVAL;VALUE=DURATION:PT1H
X-Robots-Tag:noindex
X-PUBLISHED-TTL:PT1H
BEGIN:VTIMEZONE
TZID:America/Chicago
BEGIN:DAYLIGHT
TZOFFSETFROM:-0600
TZOFFSETTO:-0500
TZNAME:CDT
DTSTART:20190310T080000
END:DAYLIGHT
BEGIN:STANDARD
TZOFFSETFROM:-0500
TZOFFSETTO:-0600
TZNAME:CST
DTSTART:20191103T070000
END:STANDARD
END:VTIMEZONE
BEGIN:VEVENT
DTSTART;TZID=America/Chicago:20191109T090000
DTEND;TZID=America/Chicago:20191109T180000
DTSTAMP:20260422T140554
CREATED:20191007T000131Z
LAST-MODIFIED:20191007T000131Z
UID:1040-1573290000-1573322400@mommyanew.com
SUMMARY:South Suburban Vegan Festival
DESCRIPTION:This is a vegan festival held in the south suburbs to promote the vegan lifestyle\, wellness and selfcare.  The event is free with free parking.   There will be vendors on site as well as entertainment\, blood pressure screenings and more.  Visit their website for event updates.
URL:https://mommyanew.com/events-single-post-name/south-suburban-vegan-festival/
LOCATION:Calumet Park Parks & Recreational Department\, 12426 South Loomis Street\, Calumet Park\, IL\, United States
ATTACH;FMTTYPE=image/jpeg:https://mommyanew.com/wp-content/uploads/2019/10/South-Suburban-Vegan.jpg
END:VEVENT
END:VCALENDAR