BEGIN:VCALENDAR
VERSION:2.0
PRODID:-// - ECPv6.0.13.1//NONSGML v1.0//EN
CALSCALE:GREGORIAN
METHOD:PUBLISH
X-ORIGINAL-URL:https://mommyanew.com
X-WR-CALDESC:Events for 
REFRESH-INTERVAL;VALUE=DURATION:PT1H
X-Robots-Tag:noindex
X-PUBLISHED-TTL:PT1H
BEGIN:VTIMEZONE
TZID:America/Chicago
BEGIN:DAYLIGHT
TZOFFSETFROM:-0600
TZOFFSETTO:-0500
TZNAME:CDT
DTSTART:20190310T080000
END:DAYLIGHT
BEGIN:STANDARD
TZOFFSETFROM:-0500
TZOFFSETTO:-0600
TZNAME:CST
DTSTART:20191103T070000
END:STANDARD
END:VTIMEZONE
BEGIN:VEVENT
DTSTART;VALUE=DATE:20190612
DTEND;VALUE=DATE:20190818
DTSTAMP:20260422T210648
CREATED:20190603T134552Z
LAST-MODIFIED:20190603T170406Z
UID:319-1560297600-1566086399@mommyanew.com
SUMMARY:Grant Park Music Festival
DESCRIPTION:Grant park music festival\, music from every genre all summer long.
URL:https://mommyanew.com/events-single-post-name/grant-park-music-festival/
LOCATION:Chicago Grant Park\, 201 East Randolph Street\, Chicago\, IL\, 60601\, United States
END:VEVENT
BEGIN:VEVENT
DTSTART;VALUE=DATE:20190613
DTEND;VALUE=DATE:20190816
DTSTAMP:20260422T210648
CREATED:20190603T165647Z
LAST-MODIFIED:20190603T165938Z
UID:389-1560384000-1565913599@mommyanew.com
SUMMARY:Chicago Summer Music Series
DESCRIPTION:Who doesn’t love free outdoor concerts!   This event offers a variety of music from local to international artists.  Bring your own snacks and lawn chair and enjoy the sounds of music.  11 dates from June 13th to August 15th.  Event time 6:30 p.m. \n  \n 
URL:https://mommyanew.com/events-single-post-name/chicago-summer-music-series/
LOCATION:Millennium Park\, 201 E Randolph Street\, Chicago\, IL\, 60601
END:VEVENT
BEGIN:VEVENT
DTSTART;TZID=America/Chicago:20190622T110000
DTEND;TZID=America/Chicago:20190622T190000
DTSTAMP:20260422T210648
CREATED:20190603T151817Z
LAST-MODIFIED:20190603T163156Z
UID:345-1561201200-1561230000@mommyanew.com
SUMMARY:Vegan Fest
DESCRIPTION:  \nFor the vegan enthusiast\,  the best in vegan comfort foods\, craft beers and wine.   Some vendors include These Wingz\, Buddy’s Italian Ice\, Asian Outpost\, Freedom Naturally Beautiful Cosmetics and many more.   The Chicago vendor lineup is constantly being updated\, so checkout the website for the latest information.   And everything is 100% vegan including drinks and merchandise.  Have you ever been to a vegan fest before?   I would love to hear your comment!
URL:https://mommyanew.com/events-single-post-name/vegan-fest/
LOCATION:Grant Park Butterfield\, 100 South Lake Shore Drive\, Chicago\, IL\, 60603
END:VEVENT
BEGIN:VEVENT
DTSTART;TZID=America/Chicago:20190622T110000
DTEND;TZID=America/Chicago:20190622T200000
DTSTAMP:20260422T210648
CREATED:20190603T154648Z
LAST-MODIFIED:20190603T163136Z
UID:355-1561201200-1561233600@mommyanew.com
SUMMARY:Chicago Food Truck Festival
DESCRIPTION:Calling all foodies!  Chicago Food Truck Festival located this year in the South Loop. \n \n  \n 
URL:https://mommyanew.com/events-single-post-name/chicago-food-truck-festival/
LOCATION:South Loop\, 1800 South Wabash\, Chicago\, IL\, 60616
END:VEVENT
END:VCALENDAR