BEGIN:VCALENDAR
VERSION:2.0
PRODID:-// - ECPv6.0.13.1//NONSGML v1.0//EN
CALSCALE:GREGORIAN
METHOD:PUBLISH
X-ORIGINAL-URL:https://mommyanew.com
X-WR-CALDESC:Events for 
REFRESH-INTERVAL;VALUE=DURATION:PT1H
X-Robots-Tag:noindex
X-PUBLISHED-TTL:PT1H
BEGIN:VTIMEZONE
TZID:America/Chicago
BEGIN:DAYLIGHT
TZOFFSETFROM:-0600
TZOFFSETTO:-0500
TZNAME:CDT
DTSTART:20190310T080000
END:DAYLIGHT
BEGIN:STANDARD
TZOFFSETFROM:-0500
TZOFFSETTO:-0600
TZNAME:CST
DTSTART:20191103T070000
END:STANDARD
END:VTIMEZONE
BEGIN:VEVENT
DTSTART;TZID=America/Chicago:20190607T110000
DTEND;TZID=America/Chicago:20190609T210000
DTSTAMP:20260422T211822
CREATED:20190515T180915Z
LAST-MODIFIED:20190603T170429Z
UID:293-1559905200-1560114000@mommyanew.com
SUMMARY:Largest Free Blues Festival
DESCRIPTION:Chicago presents the 36th Annual Blues Festival.    Chicago music tradition of blues from every genre.  Some of this year’s featured artists\, Bobby Rush and Bettye Lavette.
URL:https://mommyanew.com/events-single-post-name/chicagobluesfestival/
LOCATION:Chicago\, 60611\, Chicago\, IL
END:VEVENT
BEGIN:VEVENT
DTSTART;VALUE=DATE:20190608
DTEND;VALUE=DATE:20190610
DTSTAMP:20260422T211822
CREATED:20190603T172426Z
LAST-MODIFIED:20190603T172426Z
UID:399-1559952000-1560124799@mommyanew.com
SUMMARY:Printers Row Literary Festival
DESCRIPTION:What a fun way to keep the kids learning this summer!   2019 Printers Row Lit Fest presents their 35th annual book fair\, offering all free programs\, a bigger selection of book dealers\, a book character costume parade\, signings from your favorite authors and more.
URL:https://mommyanew.com/events-single-post-name/bookfair/
LOCATION:Loop\, South Dearborn Street to Congress Parkway\, Chicago\, IL
END:VEVENT
END:VCALENDAR